BEGIN:VCALENDAR
VERSION:2.0
PRODID:-//Les Petites Ecuries de Kaiirhos - ECPv6.15.17//NONSGML v1.0//EN
CALSCALE:GREGORIAN
METHOD:PUBLISH
X-WR-CALNAME:Les Petites Ecuries de Kaiirhos
X-ORIGINAL-URL:http://lespetitesecuriesdekaiirhos.fr
X-WR-CALDESC:Évènements pour Les Petites Ecuries de Kaiirhos
REFRESH-INTERVAL;VALUE=DURATION:PT1H
X-Robots-Tag:noindex
X-PUBLISHED-TTL:PT1H
BEGIN:VTIMEZONE
TZID:Europe/Paris
BEGIN:DAYLIGHT
TZOFFSETFROM:+0100
TZOFFSETTO:+0200
TZNAME:CEST
DTSTART:20240331T010000
END:DAYLIGHT
BEGIN:STANDARD
TZOFFSETFROM:+0200
TZOFFSETTO:+0100
TZNAME:CET
DTSTART:20241027T010000
END:STANDARD
BEGIN:DAYLIGHT
TZOFFSETFROM:+0100
TZOFFSETTO:+0200
TZNAME:CEST
DTSTART:20250330T010000
END:DAYLIGHT
BEGIN:STANDARD
TZOFFSETFROM:+0200
TZOFFSETTO:+0100
TZNAME:CET
DTSTART:20251026T010000
END:STANDARD
BEGIN:DAYLIGHT
TZOFFSETFROM:+0100
TZOFFSETTO:+0200
TZNAME:CEST
DTSTART:20260329T010000
END:DAYLIGHT
BEGIN:STANDARD
TZOFFSETFROM:+0200
TZOFFSETTO:+0100
TZNAME:CET
DTSTART:20261025T010000
END:STANDARD
END:VTIMEZONE
BEGIN:VEVENT
DTSTART;TZID=Europe/Paris:20250503T090000
DTEND;TZID=Europe/Paris:20250503T173000
DTSTAMP:20260419T220757
CREATED:20240127T213359Z
LAST-MODIFIED:20250430T160255Z
UID:941-1746262800-1746293400@lespetitesecuriesdekaiirhos.fr
SUMMARY:La Connexion à Soi
DESCRIPTION:  \n\n\n\nUne journée pour expérimenter toutes les subtilités de la connexion à soi et à l’autre humain ou équin pour construire des relations seines et constructives. \n\n\n\n\n\n\n\n\n\n \n\n\n\n\n\n 
URL:http://lespetitesecuriesdekaiirhos.fr/atelier/la-connexion-a-soi/
LOCATION:Les Petites Ecuries de Kaiirhos\, 6 Rue du grand chemin\, LAVENTIE\, Haut de France\, 62840\, France
CATEGORIES:Ateliers Thématiques
ATTACH;FMTTYPE=image/jpeg:http://lespetitesecuriesdekaiirhos.fr/wp-content/uploads/2024/01/Connexion-scaled.jpg
END:VEVENT
END:VCALENDAR